BEGIN:VCALENDAR
VERSION:2.0
PRODID:-//Tukios.com/
BEGIN:VEVENT
UID:059b5ce7-b1d5-4cb9-9331-eff59b90866e@www.jobsmortuary.net
DTSTAMP:20260420T210155Z
DTSTART:20260420T180000Z
DTEND:20260421T000000Z
SUMMARY:Visitation
DESCRIPTION:
URL:https://www.jobsmortuary.net/obituaries/henrietta-fullard-rembert
LOCATION:Home of her daughter 4380 Julius Lane  Sumter SC 29154
GEO:33.935329;-80.4580258
END:VEVENT
END:VCALENDAR