BEGIN:VCALENDAR
VERSION:2.0
PRODID:-//Tukios.com/
BEGIN:VEVENT
UID:0249d40f-a2e6-4fac-9831-72180db22125@www.jobsmortuary.net
DTSTAMP:20260423T224148Z
DTSTART:20260429T160000Z
DTEND:20260429T170000Z
SUMMARY:Funeral Service
DESCRIPTION:
URL:https://www.jobsmortuary.net/obituaries/gerald-goodman
LOCATION: 335 Pudding Swamp Road  Lynchburg SC 29080
GEO:33.961094;-80.0428785
END:VEVENT
END:VCALENDAR