BEGIN:VCALENDAR
VERSION:2.0
PRODID:-//Tukios.com/
BEGIN:VEVENT
UID:98761f61-d7d9-4773-9bd6-d692d0de11ea@www.jobsmortuary.net
DTSTAMP:20260423T224326Z
DTSTART:20260428T180000Z
DTEND:20260428T220000Z
SUMMARY:Viewing
DESCRIPTION:
URL:https://www.jobsmortuary.net/obituaries/gerald-goodman
LOCATION: 312 S MAIN ST  SUMTER SC 29150
GEO:33.9150927;-80.342625
END:VEVENT
END:VCALENDAR